BEGIN:VCALENDAR
VERSION:2.0
PRODID:-//RIGHTHERE//CALENDARIZE IT V3.2//EN
BEGIN:VEVENT
UID:52255-negrcevents@negrc.org
DTSTART:20260512T083000Z
DTEND:20260512T000000Z
DTSTAMP:20260415T184128Z
SUMMARY:Northeast Georgia Workforce Development Board Meeting
URL:https://negrc.org/workforce-development/negrcevents/northeast-georgia-w
 orkforce-development-board-meeting-13/
END:VEVENT
END:VCALENDAR