BEGIN:VCALENDAR
VERSION:2.0
PRODID:-//RIGHTHERE//CALENDARIZE IT V3.2//EN
BEGIN:VEVENT
UID:52378-negrcevents@negrc.org
DTSTART:20200415T130000Z
DTEND:20200415T140000Z
DTSTAMP:20200413T141945Z
SUMMARY:SBDC/DCA/Region 5 Small Business Webinar
URL:https://negrc.org/planning-government-services/negrcevents/sbdc-dca-reg
 ion-5-small-business-webinar/
END:VEVENT
END:VCALENDAR