BEGIN:VCALENDAR
VERSION:2.0
PRODID:-//RIGHTHERE//CALENDARIZE IT V3.2//EN
BEGIN:VEVENT
UID:52281-negrcevents@negrc.org
DTSTART:20200407T100000Z
DTEND:20200407T110000Z
DTSTAMP:20200403T161558Z
SUMMARY:SBDC/DCA/GDEcD Region 5 Small Business Webinar
URL:https://negrc.org/planning-government-services/negrcevents/sbdc-dca-gde
 cd-region-5-small-business-webinar/
ORGANIZER;CN=economic development:
END:VEVENT
END:VCALENDAR