BEGIN:VCALENDAR
VERSION:2.0
PRODID:-//RIGHTHERE//CALENDARIZE IT V3.2//EN
BEGIN:VEVENT
UID:52126-negrcevents@negrc.org
DTSTART:20200220T120000Z
DTEND:20200220T000000Z
DTSTAMP:20200109T133825Z
SUMMARY:NEGRC Council Meeting
URL:https://negrc.org/planning-government-services/negrcevents/negrc-counci
 l-meeting-6/
LOCATION:Athens Holiday Inn
END:VEVENT
END:VCALENDAR