BEGIN:VCALENDAR
VERSION:2.0
PRODID:-//RIGHTHERE//CALENDARIZE IT V3.2//EN
BEGIN:VEVENT
UID:52056-negrcevents@negrc.org
DTSTART:20200109T103000Z
DTEND:20200109T120000Z
DTSTAMP:20191213T203529Z
SUMMARY:Rural Transit Roundtable
URL:https://negrc.org/planning-government-services/negrcevents/rural-transi
 t-roundtable/
ORGANIZER;CN=northeast georgia:
LOCATION:NEGRC (Athens)
END:VEVENT
END:VCALENDAR