BEGIN:VCALENDAR
VERSION:2.0
PRODID:-//RIGHTHERE//CALENDARIZE IT V3.2//EN
BEGIN:VEVENT
UID:51977-negrcevents@negrc.org
DTSTART;VALUE=DATE:20191106
DTEND;VALUE=DATE:20191109
DTSTAMP:20190923T133437Z
SUMMARY:21st Annual GARC Training Conference
URL:https://negrc.org/planning-government-services/negrcevents/21st-annual-
 garc-training-conference/
LOCATION:The King and Prince
END:VEVENT
END:VCALENDAR