BEGIN:VCALENDAR
VERSION:2.0
PRODID:-//RIGHTHERE//CALENDARIZE IT V3.2//EN
BEGIN:VEVENT
UID:52052-negrcevents@negrc.org
DTSTART:20260121T100000Z
DTEND:20260121T120000Z
DTSTAMP:20260113T070748Z
SUMMARY:Public Hearing and Needs Assessment for the SFY2027 Area Plan
URL:https://negrc.org/aging/negrcevents/public-hearing-and-needs-assessment
 -for-the-sfy2027-area-plan/
END:VEVENT
END:VCALENDAR