BEGIN:VCALENDAR
VERSION:2.0
PRODID:-//RIGHTHERE//CALENDARIZE IT V3.2//EN
BEGIN:VEVENT
UID:51761-negrcevents@negrc.org
DTSTART:20210106T100000Z
DTEND:20210106T120000Z
DTSTAMP:20201204T135521Z
SUMMARY:Northeast Georgia Area Agency on Aging Virtual Public Hearing
URL:https://negrc.org/aging/negrcevents/northeast-georgia-area-agency-on-ag
 ing-virtual-public-hearing/
ORGANIZER;CN=admin:
END:VEVENT
END:VCALENDAR