BEGIN:VCALENDAR
VERSION:2.0
PRODID:-//RIGHTHERE//CALENDARIZE IT V3.2//EN
BEGIN:VEVENT
UID:51608-negrcevents@negrc.org
DTSTART:20200116T120000Z
DTEND:20200116T000000Z
DTSTAMP:20200109T133636Z
SUMMARY:NEGRC Council Meeting
URL:https://negrc.org/aging/negrcevents/negrc-council-meeting-5/
LOCATION:Athens Holiday Inn
END:VEVENT
END:VCALENDAR