BEGIN:VCALENDAR
VERSION:2.0
PRODID:-//RIGHTHERE//CALENDARIZE IT V3.2//EN
BEGIN:VEVENT
UID:51591-negrcevents@negrc.org
DTSTART:20191121T120000Z
DTEND:20191121T000000Z
DTSTAMP:20191030T144122Z
SUMMARY:NEGRC Council Meeting
URL:https://negrc.org/aging/negrcevents/negrc-council-meeting-4/
LOCATION:Athens Holiday Inn
END:VEVENT
END:VCALENDAR