BEGIN:VCALENDAR
VERSION:2.0
PRODID:-//RIGHTHERE//CALENDARIZE IT V3.2//EN
BEGIN:VEVENT
UID:51561-negrcevents@negrc.org
DTSTART;VALUE=DATE:20190906
DTEND;VALUE=DATE:20190906
DTSTAMP:20190827T150058Z
SUMMARY:Senior Celebration
URL:https://negrc.org/aging/negrcevents/senior-celebration/
ORGANIZER;CN=admin:
END:VEVENT
END:VCALENDAR