BEGIN:VCALENDAR
VERSION:2.0
PRODID:-//RIGHTHERE//CALENDARIZE IT V3.2//EN
BEGIN:VEVENT
UID:53484-negrcevents@negrc.org
DTSTART:20260521T120000Z
DTEND:20260521T130000Z
DTSTAMP:20251216T200713Z
SUMMARY:NEGRC Council Meeting 05.21.26
URL:https://negrc.org/administration/negrcevents/negrc-council-meeting-05-2
 1-26/
ORGANIZER;CN=Administration:
LOCATION:Trumps Catering
END:VEVENT
END:VCALENDAR