BEGIN:VCALENDAR
VERSION:2.0
PRODID:-//RIGHTHERE//CALENDARIZE IT V3.2//EN
BEGIN:VEVENT
UID:52500-negrcevents@negrc.org
DTSTART:20210916T100000Z
DTEND:20210916T000000Z
DTSTAMP:20210907T151133Z
SUMMARY:NEGRC Audit & Finance Committee Meeting
URL:https://negrc.org/administration/negrcevents/negrc-audit-finance-commit
 tee-meeting-7/
ORGANIZER;CN=Administration:
LOCATION:Teleconference
END:VEVENT
END:VCALENDAR