BEGIN:VCALENDAR
VERSION:2.0
PRODID:-//RIGHTHERE//CALENDARIZE IT V3.2//EN
BEGIN:VEVENT
UID:52248-negrcevents@negrc.org
DTSTART;VALUE=DATE:20210118
DTEND;VALUE=DATE:20210118
DTSTAMP:20201230T143810Z
SUMMARY:MLK JR Holiday-NEGRC Closed
URL:https://negrc.org/administration/negrcevents/mlk-jr-holiday-negrc-close
 d/
END:VEVENT
END:VCALENDAR