BEGIN:VCALENDAR
VERSION:2.0
PRODID:-//RIGHTHERE//CALENDARIZE IT V3.2//EN
BEGIN:VEVENT
UID:56668-negrcevents@negrc.org
DTSTART:20260820T120000Z
DTEND:20260820T130000Z
DTSTAMP:20251216T201257Z
SUMMARY:NEGRC Council Meeting 08.20.26
URL:https://negrc.org/negrcevents/negrc-council-meeting-08-20-26/
ORGANIZER;CN=Administration:
LOCATION:Trumps Catering
END:VEVENT
END:VCALENDAR